BEGIN:VCALENDAR
VERSION:2.0
CREATED:20260420T234937Z
PRODID:-//Athene Holding Ltd./Equisolve Calendar v1.0//EN
METHOD:PUBLISH
BEGIN:VEVENT
UID:009c37ed36118809927e8851a1f9b036
DTSTAMP:20260422T133628Z
DTSTART:20260515T140000Z
DTEND:20260515T150000Z
SUMMARY:Athene Fixed Income Investor Call - May 2026
DESCRIPTION:Athene Fixed Income Investor Call - May 2026\nDate: May 15\, 2026 10:00 am EDT\nWebcast: https://event.choruscall.com/mediaframe/webcast.html?webcastid=MKOQjo9L
END:VEVENT
END:VCALENDAR
